BEGIN:VCALENDAR
PRODID:-//eluceo/ical//2.0/EN
VERSION:2.0
CALSCALE:GREGORIAN
BEGIN:VEVENT
UID:casag/event/34483
DTSTAMP:20260419T183036Z
SUMMARY:Poker Neujahrsfestival | Happy New Year
DESCRIPTION:Texas Hold'em\nBUY-IN: € 130+20\nGARANTIE: €€ 20.000
URL:https://www.casinos.at/events/poker-kalender/detail/2026-01-01-poker-ne
 ujahrsfestival-happy-new-year-salzburg
DTSTART:20260101T170000
DTEND:20260101T235900
LOCATION:Casino Salzburg\, Schloss Klessheim\, 5071 Wals-Siezenheim
END:VEVENT
END:VCALENDAR
