BEGIN:VCALENDAR
PRODID:-//eluceo/ical//2.0/EN
VERSION:2.0
CALSCALE:GREGORIAN
BEGIN:VEVENT
UID:casag/event/34485
DTSTAMP:20260419T182908Z
SUMMARY:Poker Neujahrsfestival | MEGA Satellite Main Event
DESCRIPTION:Texas Hold'em\nBUY-IN: € 30+6\nGARANTIE: 10 Tickets Main Even
 t
URL:https://www.casinos.at/events/poker-kalender/detail/2026-01-02-poker-ne
 ujahrsfestival-mega-satellite-main-event-salzburg
DTSTART:20260102T170000
DTEND:20260102T235900
LOCATION:Casino Salzburg\, Schloss Klessheim\, 5071 Wals-Siezenheim
END:VEVENT
END:VCALENDAR
