BEGIN:VCALENDAR
PRODID:-//eluceo/ical//2.0/EN
VERSION:2.0
CALSCALE:GREGORIAN
BEGIN:VEVENT
UID:casag/event/34486
DTSTAMP:20260419T182950Z
SUMMARY:Poker Neujahrsfestival | Classic Freeze-out
DESCRIPTION:Texas Hold'em\nBUY-IN: € 100+20
URL:https://www.casinos.at/events/poker-kalender/detail/2026-01-02-poker-ne
 ujahrsfestival-classic-freeze-out-salzburg
DTSTART:20260102T190000
DTEND:20260102T235900
LOCATION:Casino Salzburg\, Schloss Klessheim\, 5071 Wals-Siezenheim
END:VEVENT
END:VCALENDAR
