BEGIN:VCALENDAR
PRODID:-//eluceo/ical//2.0/EN
VERSION:2.0
CALSCALE:GREGORIAN
BEGIN:VEVENT
UID:casag/event/34487
DTSTAMP:20260419T182907Z
SUMMARY:Poker Neujahrsfestival | Main Event 1A
DESCRIPTION:Texas Hold'em\nBUY-IN: € 300+30\nGARANTIE: €€ 50.000
URL:https://www.casinos.at/events/poker-kalender/detail/2026-01-03-poker-ne
 ujahrsfestival-main-event-1a-salzburg
DTSTART:20260103T150000
DTEND:20260103T235900
LOCATION:Casino Salzburg\, Schloss Klessheim\, 5071 Wals-Siezenheim
END:VEVENT
END:VCALENDAR
