BEGIN:VCALENDAR
PRODID:-//eluceo/ical//2.0/EN
VERSION:2.0
CALSCALE:GREGORIAN
BEGIN:VEVENT
UID:casag/event/34488
DTSTAMP:20260419T183229Z
SUMMARY:Poker Neujahrsfestival | Last Chance Satellite Main Event
DESCRIPTION:Texas Hold'em\nBUY-IN: € 50+10\nGARANTIE: 5 Tickets Main Even
 t
URL:https://www.casinos.at/events/poker-kalender/detail/2026-01-03-poker-ne
 ujahrsfestival-last-chance-satellite-main-event-salzburg
DTSTART:20260103T190000
DTEND:20260103T235900
LOCATION:Casino Salzburg\, Schloss Klessheim\, 5071 Wals-Siezenheim
END:VEVENT
END:VCALENDAR
