BEGIN:VCALENDAR
PRODID:-//eluceo/ical//2.0/EN
VERSION:2.0
CALSCALE:GREGORIAN
BEGIN:VEVENT
UID:casag/event/34490
DTSTAMP:20260419T183035Z
SUMMARY:Poker Neujahrsfestival | Main Event 1B
DESCRIPTION:Texas Hold'em\nBUY-IN: € 300+30\nGARANTIE: €€ 50.000
URL:https://www.casinos.at/events/poker-kalender/detail/2026-01-04-poker-ne
 ujahrsfestival-main-event-1b-salzburg
DTSTART:20260104T150000
DTEND:20260104T235900
LOCATION:Casino Salzburg\, Schloss Klessheim\, 5071 Wals-Siezenheim
END:VEVENT
END:VCALENDAR
