BEGIN:VCALENDAR
PRODID:-//eluceo/ical//2.0/EN
VERSION:2.0
CALSCALE:GREGORIAN
BEGIN:VEVENT
UID:casag/event/34492
DTSTAMP:20260419T182929Z
SUMMARY:Poker Neujahrsfestival | Main Event Finale
DESCRIPTION:Texas Hold'em\nBUY-IN: € 300+30\nGARANTIE: €€ 50.000
URL:https://www.casinos.at/events/poker-kalender/detail/2026-01-05-poker-ne
 ujahrsfestival-main-event-finale-salzburg
DTSTART:20260105T170000
DTEND:20260105T235900
LOCATION:Casino Salzburg\, Schloss Klessheim\, 5071 Wals-Siezenheim
END:VEVENT
END:VCALENDAR
