BEGIN:VCALENDAR
PRODID:-//eluceo/ical//2.0/EN
VERSION:2.0
CALSCALE:GREGORIAN
BEGIN:VEVENT
UID:casag/event/34493
DTSTAMP:20260419T183106Z
SUMMARY:Poker Neujahrsfestival | Classic Bounty
DESCRIPTION:Texas Hold'em\nBUY-IN: € 80+20+50
URL:https://www.casinos.at/events/poker-kalender/detail/2026-01-05-poker-ne
 ujahrsfestival-classic-bounty-salzburg
DTSTART:20260105T180000
DTEND:20260105T235900
LOCATION:Casino Salzburg\, Schloss Klessheim\, 5071 Wals-Siezenheim
END:VEVENT
END:VCALENDAR
