BEGIN:VCALENDAR
PRODID:-//eluceo/ical//2.0/EN
VERSION:2.0
CALSCALE:GREGORIAN
BEGIN:VEVENT
UID:casag/event/34494
DTSTAMP:20260419T183122Z
SUMMARY:Poker Neujahrsfestival | Dreikönigsturnier
DESCRIPTION:Texas Hold'em\nBUY-IN: € 100+20\nGARANTIE: €€ 10.000
URL:https://www.casinos.at/events/poker-kalender/detail/2026-01-06-poker-ne
 ujahrsfestival-dreikoenigsturnier-salzburg
DTSTART:20260106T170000
DTEND:20260106T235900
LOCATION:Casino Salzburg\, Schloss Klessheim\, 5071 Wals-Siezenheim
END:VEVENT
END:VCALENDAR
