BEGIN:VCALENDAR
PRODID:-//eluceo/ical//2.0/EN
VERSION:2.0
CALSCALE:GREGORIAN
BEGIN:VEVENT
UID:casag/event/34535
DTSTAMP:20260419T170429Z
SUMMARY:NLH Wintermania Deepstack XXL
DESCRIPTION:Texas Hold'em\nBUY-IN: € 100+20\nGARANTIE: €€ 6.000
URL:https://www.casinos.at/events/poker-kalender/detail/2026-01-22-nlh-wint
 ermania-deepstack-xxl-innsbruck
DTSTART:20260122T170000
DTEND:20260122T235900
LOCATION:Casino Innsbruck\, Salurner Straße 15\, 6020 Innsbruck
END:VEVENT
END:VCALENDAR
