BEGIN:VCALENDAR
PRODID:-//eluceo/ical//2.0/EN
VERSION:2.0
CALSCALE:GREGORIAN
BEGIN:VEVENT
UID:casag/event/35013
DTSTAMP:20260419T115545Z
SUMMARY:Sonntagswatten
DESCRIPTION:Wir freuen uns euch wieder beim Sonntags-Watten im Casino Seefe
 ld begrüßen zu dürfen.
URL:https://www.casinos.at/events/poker-kalender/detail/2026-10-18-sonntags
 -watten-seefeld
DTSTART:20261018T140000
DTEND:20261018T180000
LOCATION:Casino Seefeld\, Bahnhofstraße 124\, 6100 Seefeld/Tirol
END:VEVENT
END:VCALENDAR
