BEGIN:VCALENDAR
PRODID:-//eluceo/ical//2.0/EN
VERSION:2.0
CALSCALE:GREGORIAN
BEGIN:VEVENT
UID:casag/event/35019
DTSTAMP:20260419T133010Z
SUMMARY:Tiroler Pascher Meisterschaft – Teampaschen
DESCRIPTION:Pascher:innen treffen sich zur Tiroler Pascher Meisterschaft wi
 eder im Casino Seefeld
URL:https://www.casinos.at/events/poker-kalender/detail/2026-11-22-tiroler-
 pascher-meisterschaft-teampaschen-kopie-1-seefeld
DTSTART:20261122T140000
DTEND:20261122T180000
LOCATION:Casino Seefeld\, Bahnhofstraße 124\, 6100 Seefeld/Tirol
END:VEVENT
END:VCALENDAR
