BEGIN:VCALENDAR
PRODID:-//eluceo/ical//2.0/EN
VERSION:2.0
CALSCALE:GREGORIAN
BEGIN:VEVENT
UID:casag/event/35069
DTSTAMP:20260419T170611Z
SUMMARY:Poker Donnerstag | Progressive Bounty
DESCRIPTION:Texas Hold'em\nBUY-IN: € 100+20
URL:https://www.casinos.at/events/poker-kalender/detail/2026-01-15-poker-do
 nnerstag-progressive-bounty-salzburg
DTSTART:20260115T193000
DTEND:20260115T235900
LOCATION:Casino Salzburg\, Schloss Klessheim\, 5071 Wals-Siezenheim
END:VEVENT
END:VCALENDAR
