BEGIN:VCALENDAR
PRODID:-//eluceo/ical//2.0/EN
VERSION:2.0
CALSCALE:GREGORIAN
BEGIN:VEVENT
UID:casag/event/35089
DTSTAMP:20260419T153413Z
SUMMARY:Poker Donnerstag | Classic Freeze-out
DESCRIPTION:Texas Hold'em\nBUY-IN: € 130+20
URL:https://www.casinos.at/events/poker-kalender/detail/2026-02-05-poker-do
 nnerstag-classic-freeze-out-salzburg
DTSTART:20260205T193000
DTEND:20260205T235900
LOCATION:Casino Salzburg\, Schloss Klessheim\, 5071 Wals-Siezenheim
END:VEVENT
END:VCALENDAR
