BEGIN:VCALENDAR
PRODID:-//eluceo/ical//2.0/EN
VERSION:2.0
CALSCALE:GREGORIAN
BEGIN:VEVENT
UID:casag/event/35091
DTSTAMP:20260419T153440Z
SUMMARY:Poker Donnerstag | Pot Limit Omaha
DESCRIPTION:Texas Hold'em\nBUY-IN: € 75+15
URL:https://www.casinos.at/events/poker-kalender/detail/2026-01-29-poker-do
 nnerstag-pot-limit-omaha-salzburg
DTSTART:20260129T193000
DTEND:20260129T235900
LOCATION:Casino Salzburg\, Schloss Klessheim\, 5071 Wals-Siezenheim
END:VEVENT
END:VCALENDAR
