BEGIN:VCALENDAR
PRODID:-//eluceo/ical//2.0/EN
VERSION:2.0
CALSCALE:GREGORIAN
BEGIN:VEVENT
UID:casag/event/35256
DTSTAMP:20260419T170434Z
SUMMARY:CASH GAME HIGH HAND ACTION
DESCRIPTION:
URL:https://www.casinos.at/events/poker-kalender/detail/2026-01-07-neu-2026
 -extra-cash-game-bonus-eur-2300-seefeld
DTSTART:20260107T180000
DTEND:20260107T235900
LOCATION:Casino Seefeld\, Bahnhofstraße 124\, 6100 Seefeld/Tirol
END:VEVENT
END:VCALENDAR
