BEGIN:VCALENDAR
PRODID:-//eluceo/ical//2.0/EN
VERSION:2.0
CALSCALE:GREGORIAN
BEGIN:VEVENT
UID:casag/event/35260
DTSTAMP:20260419T170505Z
SUMMARY:CASH GAME HIGH HAND ACTION
DESCRIPTION:
URL:https://www.casinos.at/events/poker-kalender/detail/2026-01-10-cash-gam
 e-high-hand-action-kopie-1-seefeld
DTSTART:20260110T170000
DTEND:20260110T235900
LOCATION:Casino Seefeld\, Bahnhofstraße 124\, 6100 Seefeld/Tirol
END:VEVENT
END:VCALENDAR
