BEGIN:VCALENDAR
PRODID:-//eluceo/ical//2.0/EN
VERSION:2.0
CALSCALE:GREGORIAN
BEGIN:VEVENT
UID:casag/event/35488
DTSTAMP:20260419T120614Z
SUMMARY:NLH CAPT Innsbruck Satellite
DESCRIPTION:Texas Hold'em\nBUY-IN: € 50+10
URL:https://www.casinos.at/events/poker-kalender/detail/2026-03-03-nlh-capt
 -innsbruck-satellite-innsbruck
DTSTART:20260302T182000
DTEND:20260302T235900
LOCATION:Casino Innsbruck\, Salurner Straße 15\, 6020 Innsbruck
END:VEVENT
END:VCALENDAR
