BEGIN:VCALENDAR
PRODID:-//eluceo/ical//2.0/EN
VERSION:2.0
CALSCALE:GREGORIAN
BEGIN:VEVENT
UID:casag/event/35489
DTSTAMP:20260419T120627Z
SUMMARY:NLH CAPT Innsbruck Satellite Mystery
DESCRIPTION:Texas Hold'em\nBUY-IN: € 30+6
URL:https://www.casinos.at/events/poker-kalender/detail/2026-03-03-nlh-capt
 -innsbruck-satellite-mystery-innsbruck
DTSTART:20260303T182000
DTEND:20260303T235900
LOCATION:Casino Innsbruck\, Salurner Straße 15\, 6020 Innsbruck
END:VEVENT
END:VCALENDAR
