BEGIN:VCALENDAR
PRODID:-//eluceo/ical//2.0/EN
VERSION:2.0
CALSCALE:GREGORIAN
BEGIN:VEVENT
UID:casag/event/35570
DTSTAMP:20260419T120534Z
SUMMARY:NLH Main Event
DESCRIPTION:Texas Hold'em\nBUY-IN: € 130+20\nGARANTIE: €€ 15.000
URL:https://www.casinos.at/events/poker-kalender/detail/2026-02-21-nlh-main
 -event-linz
DTSTART:20260221T150000
DTEND:20260221T235900
LOCATION:Casino Linz\, Rainerstraße 2-4\, 4020 Linz
END:VEVENT
END:VCALENDAR
