BEGIN:VCALENDAR
PRODID:-//eluceo/ical//2.0/EN
VERSION:2.0
CALSCALE:GREGORIAN
BEGIN:VEVENT
UID:casag/event/35572
DTSTAMP:20260419T121617Z
SUMMARY:NLH PKO
DESCRIPTION:Texas Hold'em\nBUY-IN: € 100+20\nGARANTIE: €€ 5.000
URL:https://www.casinos.at/events/poker-kalender/detail/2026-02-19-nlh-pko-
 linz
DTSTART:20260219T170000
DTEND:20260219T235900
LOCATION:Casino Linz\, Rainerstraße 2-4\, 4020 Linz
END:VEVENT
END:VCALENDAR
