BEGIN:VCALENDAR
PRODID:-//eluceo/ical//2.0/EN
VERSION:2.0
CALSCALE:GREGORIAN
BEGIN:VEVENT
UID:casag/event/35881
DTSTAMP:20260419T132907Z
SUMMARY:Bingo Finale
DESCRIPTION:Spannung bis zur letzten Sekunde! Erlebe BINGO live im Casino I
 nnsbruck und gewinne mit etwas Glück einen der tollen Preise.
URL:https://www.casinos.at/events/poker-kalender/detail/2026-12-20-bingo-fi
 nale-innsbruck
DTSTART:20261220T201500
DTEND:20261221T001500
LOCATION:Casino Innsbruck\, Salurner Straße 15\, 6020 Innsbruck
END:VEVENT
END:VCALENDAR
