BEGIN:VCALENDAR
PRODID:-//eluceo/ical//2.0/EN
VERSION:2.0
CALSCALE:GREGORIAN
BEGIN:VEVENT
UID:casag/event/36380
DTSTAMP:20260419T170521Z
SUMMARY:Heilige Drei Könige Cash Game Aktion
DESCRIPTION:Texas Hold'em/Omaha
URL:https://www.casinos.at/events/poker-kalender/detail/2026-01-06-heilige-
 drei-koenige-cash-game-aktion-innsbruck
DTSTART:20260106T190000
DTEND:20260106T235900
LOCATION:Casino Innsbruck\, Salurner Straße 15\, 6020 Innsbruck
END:VEVENT
END:VCALENDAR
