BEGIN:VCALENDAR
PRODID:-//eluceo/ical//2.0/EN
VERSION:2.0
CALSCALE:GREGORIAN
BEGIN:VEVENT
UID:casag/event/36948
DTSTAMP:20260419T170433Z
SUMMARY:Poker Mittwoch | NLH
DESCRIPTION:Texas Hold'em\nBUY-IN: € 30+6
URL:https://www.casinos.at/events/poker-kalender/detail/2026-01-21-poker-mi
 ttwoch-nlh-salzburg
DTSTART:20260121T193000
DTEND:20260121T235900
LOCATION:Casino Salzburg\, Schloss Klessheim\, 5071 Wals-Siezenheim
END:VEVENT
END:VCALENDAR
