BEGIN:VCALENDAR
PRODID:-//eluceo/ical//2.0/EN
VERSION:2.0
CALSCALE:GREGORIAN
BEGIN:VEVENT
UID:casag/event/37981
DTSTAMP:20260422T101832Z
SUMMARY:7 X 1.000 Euro Schlussverlosung
DESCRIPTION:Gewinne - mit etwas Glück - bis zu 7 x 1.000 Euro in Spieljeto
 ns! Sammle bei deinem Besuch im Casino Wien Teilnahmekarten.
URL:https://www.casinos.at/events/poker-kalender/detail/2026-02-01-7-x-1000
 -euro-schlussverlosung-wien
DTSTART:20260201T170000
DTEND:20260201T210000
LOCATION:Casino Wien\, Kärntner Straße 41\, 1010 Wien
END:VEVENT
END:VCALENDAR
