BEGIN:VCALENDAR
PRODID:-//eluceo/ical//2.0/EN
VERSION:2.0
CALSCALE:GREGORIAN
BEGIN:VEVENT
UID:casag/event/38055
DTSTAMP:20260422T140339Z
SUMMARY:NLH Main Event
DESCRIPTION:Texas Hold'em
URL:https://www.casinos.at/events/poker-kalender/detail/2026-05-24-nlh-main
 -event-velden
DTSTART:20260524T140000
DTEND:20260524T235900
LOCATION:Casino Velden\, Am Corso 17\, 9220 Velden
END:VEVENT
END:VCALENDAR
