BEGIN:VCALENDAR
PRODID:-//eluceo/ical//2.0/EN
VERSION:2.0
CALSCALE:GREGORIAN
BEGIN:VEVENT
UID:casag/event/38246
DTSTAMP:20260419T133629Z
SUMMARY:Dinner Music Special
DESCRIPTION:Genieße im Casino Innsbruck einen Abend mit kulinarischen High
 lights und exklusiver Live-Musik. 
URL:https://www.casinos.at/events/poker-kalender/detail/2026-12-04-dinner-m
 usic-special-innsbruck
DTSTART:20261204T190000
DTEND:20261204T230000
LOCATION:Casino Innsbruck\, Salurner Straße 15\, 6020 Innsbruck
END:VEVENT
END:VCALENDAR
