BEGIN:VCALENDAR
PRODID:-//eluceo/ical//2.0/EN
VERSION:2.0
CALSCALE:GREGORIAN
BEGIN:VEVENT
UID:casag/event/38262
DTSTAMP:20260419T120012Z
SUMMARY:Friday the 13th - Your lucky Day
DESCRIPTION:Turn Friday the 13th into a unique experience and take the chan
 ce to win €1\,300 in gaming chips!
URL:https://www.casinos.at/events/poker-kalender/detail/2026-02-13-freitag-
 der-13-dein-glueckstag-wien
DTSTART:20260213T090000
DTEND:20260213T130000
LOCATION:Casino Wien\, Kärntner Straße 41\, 1010 Wien
END:VEVENT
END:VCALENDAR
