BEGIN:VCALENDAR
PRODID:-//eluceo/ical//2.0/EN
VERSION:2.0
CALSCALE:GREGORIAN
BEGIN:VEVENT
UID:casag/event/39586
DTSTAMP:20260420T084657Z
SUMMARY:Tag des Glücks
DESCRIPTION:Am Internationalen Tag des Glücks\, warten 3 x € 333 auf ihr
 e glücklichen Gewinner:innen.
URL:https://www.casinos.at/events/poker-kalender/detail/2026-03-20-tag-des-
 gluecks-seefeld
DTSTART:20260320T140000
DTEND:20260320T180000
LOCATION:Casino Seefeld\, Bahnhofstraße 124\, 6100 Seefeld/Tirol
END:VEVENT
END:VCALENDAR
