BEGIN:VCALENDAR
PRODID:-//eluceo/ical//2.0/EN
VERSION:2.0
CALSCALE:GREGORIAN
BEGIN:VEVENT
UID:casag/event/39619
DTSTAMP:20260423T064744Z
SUMMARY:Freezeout
DESCRIPTION:Texas Hold'em\nBUY-IN: € 100+20\nGARANTIE: €€ 5.000
URL:https://www.casinos.at/events/poker-kalender/detail/2026-04-23-freezeou
 t-baden
DTSTART:20260423T180000
DTEND:20260423T235900
LOCATION:Casino Baden\, Kaiser-Franz-Ring 1\, 2500 Baden
END:VEVENT
END:VCALENDAR
