BEGIN:VCALENDAR
PRODID:-//eluceo/ical//2.0/EN
VERSION:2.0
CALSCALE:GREGORIAN
BEGIN:VEVENT
UID:casag/event/11241
DTSTAMP:20260423T064922Z
SUMMARY:Deepstack Turbo 
DESCRIPTION:Texas Hold'em\nBUY-IN: € 100+20
URL:https://www.casinos.at/events/poker-kalender/detail/2023-05-18-deepstac
 k-turbo-bregenz
DTSTART:20260423T183000
DTEND:20260423T235900
LOCATION:Casino Bregenz\, Platz der Wiener Symphoniker 3\, 6900 Bregenz
END:VEVENT
END:VCALENDAR
