BEGIN:VCALENDAR
PRODID:-//eluceo/ical//2.0/EN
VERSION:2.0
CALSCALE:GREGORIAN
BEGIN:VEVENT
UID:casag/event/39754
DTSTAMP:20260423T202247Z
SUMMARY:Österreich Tarockfinale
DESCRIPTION:Herzlich willkommen zum 18. Tarock-Österreich-Finale​​​
 ​​​​ im Casino Linz!
URL:https://www.casinos.at/events/poker-kalender/detail/2026-04-25-oesterre
 ich-tarockfinale-linz
DTSTART:20260425T143000
DTEND:20260425T183000
LOCATION:Casino Linz\, Rainerstraße 2-4\, 4020 Linz
END:VEVENT
END:VCALENDAR
