BEGIN:VCALENDAR
PRODID:-//eluceo/ical//2.0/EN
VERSION:2.0
CALSCALE:GREGORIAN
BEGIN:VEVENT
UID:casag/event/39918
DTSTAMP:20260421T084650Z
SUMMARY:Glücksdusche im April
DESCRIPTION:Hast du schon einmal in Geld geduscht? Nein? \nDann komm im Apr
 il jeden Donnerstag zu uns ins Casino Baden und sichere Dir die Chance auf
  den exklusiven Zutritt in die Glücksdusche!
URL:https://www.casinos.at/events/poker-kalender/detail/2026-01-02-gluecksd
 usche-im-april-baden
DTSTART:20260402T220000
DTEND:20260403T020000
LOCATION:Casino Baden\, Kaiser-Franz-Ring 1\, 2500 Baden
END:VEVENT
END:VCALENDAR
