BEGIN:VCALENDAR
PRODID:-//eluceo/ical//2.0/EN
VERSION:2.0
CALSCALE:GREGORIAN
BEGIN:VEVENT
UID:casag/event/39968
DTSTAMP:20260421T114705Z
SUMMARY:Happy Hour Cash Game Bonus
DESCRIPTION:Texas Hold'em/Omaha\nBUY-IN: € 100
URL:https://www.casinos.at/events/poker-kalender/detail/2026-03-06-happy-ho
 ur-cash-game-bonus-velden
DTSTART:20260306T190000
DTEND:20260306T235900
LOCATION:Casino Velden\, Am Corso 17\, 9220 Velden
END:VEVENT
END:VCALENDAR
