BEGIN:VCALENDAR
PRODID:-//eluceo/ical//2.0/EN
VERSION:2.0
CALSCALE:GREGORIAN
BEGIN:VEVENT
UID:casag/event/42050
DTSTAMP:20260419T192902Z
SUMMARY:1. Mai Red Carpet Flip
DESCRIPTION:Texas Hold'em
URL:https://www.casinos.at/events/poker-kalender/detail/2026-05-01-1-mai-re
 d-carpet-flip-innsbruck
DTSTART:20260501T190000
DTEND:20260501T235900
LOCATION:Casino Innsbruck\, Salurner Straße 15\, 6020 Innsbruck
END:VEVENT
END:VCALENDAR
