BEGIN:VCALENDAR
PRODID:-//eluceo/ical//2.0/EN
VERSION:2.0
CALSCALE:GREGORIAN
BEGIN:VEVENT
UID:casag/event/42468
DTSTAMP:20260420T193457Z
SUMMARY:Kraft tanken mit Kultur und Natur in Velden
DESCRIPTION:Freut euch auf einen musikalischen Abend der besonderen Art.
URL:https://www.casinos.at/events/poker-kalender/detail/2026-04-25-kraft-ta
 nken-mit-kultur-und-natur-in-velden-velden
DTSTART:20260425T191500
DTEND:20260425T231500
LOCATION:Casino Velden\, Am Corso 17\, 9220 Velden
END:VEVENT
END:VCALENDAR
